BEGIN:VCALENDAR
VERSION:2.0
PRODID:-//MTRAS.com//NONSGML kigkonsult.se iCalcreator 2.30.10//
CALSCALE:GREGORIAN
METHOD:PUBLISH
UID:7dca0779-5f0c-4e41-9a45-71e85d588fd2
X-WR-CALNAME:iCagenda
X-WR-CALDESC:Event Management Extension for Joomla!
X-WR-RELCALID:3E26604A-50F4-4449-8B3E-E4F4932D05B5
X-WR-TIMEZONE:America/Chicago
BEGIN:VTIMEZONE
TZID:America/Chicago
BEGIN:STANDARD
TZNAME:CST
DTSTART:20211107T020000
TZOFFSETFROM:-0500
TZOFFSETTO:-0600
RDATE:20221106T020000
END:STANDARD
BEGIN:DAYLIGHT
TZNAME:CDT
DTSTART:20210314T020000
TZOFFSETFROM:-0600
TZOFFSETTO:-0500
RDATE:20220313T020000
RDATE:20230312T020000
END:DAYLIGHT
END:VTIMEZONE
BEGIN:VEVENT
UID:cafb8a2d-ec40-4eed-9485-bb30e6376f75
DTSTAMP:20260420T084734Z
CATEGORIES:Special Events
CLASS:PUBLIC
DESCRIPTION;ALTREP="CID:<FFFF__=0ABBE548DFE235B58f9e8a93d@coffeebean.com>":
 Overview\nIt's that time again - up late and getting your geek on! The Adv
 enture Science Center is hosting another Way Late Play Date and the theme 
 for this event is 'True Crime' Bring your gadgets and your magic and help 
 us show up!\nThings to know:\n\nAge Restriction - This is a 21 and older e
 vent so\, unfortunately kids can't be at the booth.\nLocation - The event 
 is at&nbsp\;The Adventure Science Center 800 Fort Negley Blvd. Nashville\,
  TN 37203\nSetup - Thursday evening beginning at 6:15pm with the event sta
 rting at 7pm.\nBreakdown - The event ends at 10pm.\n\nThings We Need\n\nVo
 lunteers - We need help with presenting at the booth.\nProjects - Bring yo
 ur bots and related projects for display.\nSnacks - We have drinks covered
  but we need some folks to bring snacks.\n\nJust like all of our other eve
 nts this is a great opportunity to show Nashville what we are all about. T
 his is a 'True Crime' themed event. While Robots on display is usually wha
 t we go for\, this is a great opportunity to bring out some other crime/se
 curity/problem solving projects.\nLastly\, lets have fun. Its going to be 
 a fantastic event. Take some time to check things out.\nMore info on the e
 vent:&nbsp\;https://www.adventuresci.org/explore/way-late-play-date-true-c
 rime/\nSee you there!
DTSTART:20220212T001500Z
DTEND:20220212T040000Z
GEO:00;0
LOCATION:The Adventure Science Center
ORGANIZER:
SEQUENCE:1
SUMMARY:Way Late Play Date: True Crime
TRANSP:OPAQUE
URL:https://mtras.com/events/past-events/109-way-late-play-date-true-crime.
 html
END:VEVENT
END:VCALENDAR
