BEGIN:VCALENDAR
VERSION:2.0
PRODID:-//MTRAS.com//NONSGML kigkonsult.se iCalcreator 2.30.10//
CALSCALE:GREGORIAN
METHOD:PUBLISH
UID:88eb03f4-29d6-44d1-9716-2da8dce98440
X-WR-CALNAME:iCagenda
X-WR-CALDESC:Event Management Extension for Joomla!
X-WR-RELCALID:3E26604A-50F4-4449-8B3E-E4F4932D05B5
X-WR-TIMEZONE:America/Chicago
BEGIN:VTIMEZONE
TZID:America/Chicago
BEGIN:STANDARD
TZNAME:CST
DTSTART:20221106T020000
TZOFFSETFROM:-0500
TZOFFSETTO:-0600
RDATE:20231105T020000
END:STANDARD
BEGIN:DAYLIGHT
TZNAME:CDT
DTSTART:20220313T020000
TZOFFSETFROM:-0600
TZOFFSETTO:-0500
RDATE:20230312T020000
RDATE:20240310T020000
END:DAYLIGHT
END:VTIMEZONE
BEGIN:VEVENT
UID:784a0e2a-d1ba-403c-9ae9-0fcc42c508b4
DTSTAMP:20260419T141241Z
CATEGORIES:Special Events
CLASS:PUBLIC
DESCRIPTION;ALTREP="CID:<FFFF__=0ABBE548DFE235B58f9e8a93d@coffeebean.com>":
 Overview\nThis event is all about engineering! While the whole month of Fe
 bruary at the ASC is about Engineering\, the 25th is our Engineering Day E
 vent! Like most of our special events\, we will be presenting our projects
  in a show and tell format\, host some demo competitions\, AND this year w
 e're teaming up with Jason and Jenna Rogers of Team Gruff fame to host Eng
 ineered for Destruction! More on competition details\, signups and schedul
 es coming soon!\nThis will be a BIG event with prizes and trophies!\nThing
 s to know:\n\nSign-up - Sign-up details and forms will be updated here soo
 n. However\, you will need to register for this event either as a competit
 or or a voluteer (new ASC requirements) More about competitor/guest regist
 ration coming soon!\nLocation - The event is at&nbsp\;The Adventure Scienc
 e Center 800 Fort Negley Blvd. Nashville\, TN 37203\nSetup - Saturday 9:00
 am and all vehicles need to be removed from the front of the building by 9
 :30. We will be setting up in the Green Classroom in the morning and trans
 ferring to the MakerSpace after lunch for competitions.\nCompetition Sched
 ule - TBD\nBreakdown - Everything needs to be cleared out by 5:00p.\n\nThi
 ngs We Need\n\nVolunteers - We need help with presenting at the booth.\nPr
 ojects - Bring your bots and related projects for display - both completed
  or in-progress are welcomed and appreciated!\nCombat Robots - TBD - Check
  back!\nLine Following Robots - We need autonomous competitors\nSumo Robot
 s - If you have a club kit\, bring it! If you have another sumo bot\, brin
 g that too!\nSnacks - We need some folks to bring snacks/drinks.\nExtensio
 n Cords / Power Strips\n\nJust like all of our other events this is a grea
 t opportunity to show Nashville what we are all about. Bring all those awe
 some projects you’ve been working on. SUMO robots\, Arduino projects\, Bat
 tle Bots\, Line followers\, Robot Arms\, etc. We have the space so lets fi
 ll it. Its an opportunity for us to reach people outside the Science Cente
 r. Though we’ve been around for 16 years there are still people who don’t 
 know about the group. Lets put our best foot forward.\nSee you there!
DTSTART:20230225T150000Z
DTEND:20230225T230000Z
GEO:+36.147087;-86.775978
LOCATION:Adventure Science Center
ORGANIZER:
SEQUENCE:1
SUMMARY:ASC Engineering Day 2023
TRANSP:OPAQUE
URL:https://mtras.com/events/past-events/132-asc-engineering-day-2023.html
END:VEVENT
END:VCALENDAR
