BEGIN:VCALENDAR
VERSION:2.0
PRODID:-//MTRAS.com//NONSGML kigkonsult.se iCalcreator 2.30.10//
CALSCALE:GREGORIAN
METHOD:PUBLISH
UID:584253de-b20c-4313-97a1-b469033b0d8b
X-WR-CALNAME:iCagenda
X-WR-CALDESC:Event Management Extension for Joomla!
X-WR-RELCALID:3E26604A-50F4-4449-8B3E-E4F4932D05B5
X-WR-TIMEZONE:America/Chicago
BEGIN:VTIMEZONE
TZID:America/Chicago
BEGIN:STANDARD
TZNAME:CST
DTSTART:20231105T020000
TZOFFSETFROM:-0500
TZOFFSETTO:-0600
RDATE:20241103T020000
END:STANDARD
BEGIN:DAYLIGHT
TZNAME:CDT
DTSTART:20230312T020000
TZOFFSETFROM:-0600
TZOFFSETTO:-0500
RDATE:20240310T020000
RDATE:20250309T020000
END:DAYLIGHT
END:VTIMEZONE
BEGIN:VEVENT
UID:8e187289-4c0d-4af1-9520-d41a901de25c
DTSTAMP:20260421T083733Z
CATEGORIES:Special Events
CLASS:PUBLIC
DESCRIPTION;ALTREP="CID:<FFFF__=0ABBE548DFE235B58f9e8a93d@coffeebean.com>":
 Overview\nThis event is all about engineering! While the whole month of Fe
 bruary at the ASC is about Engineering\, the 24th is our Engineering Day E
 vent! Like most of our special events\, we will be presenting our projects
  in a show and tell format\, host some demo competitions\, AND this year w
 e're teaming up with Jason and Jenna Rogers of Team Gruff fame to host Eng
 ineered for Destruction!\nThis will be a BIG event with prizes and trophie
 s!\nThings to know:\n\nSign-up - To register your combat robot for the eve
 nt in one of the available classes please register here.\nLocation - The e
 vent is at&nbsp\;The Adventure Science Center 800 Fort Negley Blvd. Nashvi
 lle\, TN 37203\nSetup - Saturday 7:30am and all vehicles need to be remove
 d from the front of the building by 8:30. We will be setting up in Adventu
 re Gallery.\nCompetition Schedule - TBD\nBreakdown - Everything needs to b
 e cleared out by 5:00p.\n\nThings We Need\n\nVolunteers - We need help wit
 h presenting at the booth.\nProjects - Bring your bots and related project
 s for display - both completed or in-progress are welcomed and appreciated
 !\nCombat Robots - Please register here!\nLine Following Robots - We need 
 autonomous competitors\nSumo Robots - If you have a club kit\, bring it! I
 f you have another sumo bot\, bring that too!\nSnacks - We need some folks
  to bring snacks/drinks.\nExtension Cords / Power Strips - Always needed -
  Remember to bring them!\n\nJust like all of our other events this is a gr
 eat opportunity to show Nashville what we are all about. Bring all those a
 wesome projects you’ve been working on. SUMO robots\, Arduino projects\, B
 attle Bots\, Line followers\, Robot Arms\, etc. We have the space so lets 
 fill it. Its an opportunity for us to reach people outside the Science Cen
 ter. Though we’ve been around for 17 years (as of January 2024) there are 
 still people who don’t know about the group. Lets put our best foot forwar
 d.\nSee you there!
DTSTART:20240224T133000Z
DTEND:20240224T230000Z
GEO:+36.147087;-86.775978
LOCATION:Adventure Science Center
ORGANIZER:
SEQUENCE:1
SUMMARY:ASC Engineering Day 2024
TRANSP:OPAQUE
URL:https://mtras.com/events/past-events/144-asc-engineering-day-2024.html
END:VEVENT
END:VCALENDAR
