BEGIN:VCALENDAR
VERSION:2.0
PRODID:-//MTRAS.com//NONSGML kigkonsult.se iCalcreator 2.30.10//
CALSCALE:GREGORIAN
METHOD:PUBLISH
UID:792ef86e-57ad-437a-abe0-9dea629640f2
X-WR-CALNAME:iCagenda
X-WR-CALDESC:Event Management Extension for Joomla!
X-WR-RELCALID:3E26604A-50F4-4449-8B3E-E4F4932D05B5
X-WR-TIMEZONE:America/Chicago
BEGIN:VTIMEZONE
TZID:America/Chicago
BEGIN:STANDARD
TZNAME:CST
DTSTART:20191103T020000
TZOFFSETFROM:-0500
TZOFFSETTO:-0600
RDATE:20201101T020000
END:STANDARD
BEGIN:DAYLIGHT
TZNAME:CDT
DTSTART:20190310T020000
TZOFFSETFROM:-0600
TZOFFSETTO:-0500
RDATE:20200308T020000
RDATE:20210314T020000
END:DAYLIGHT
END:VTIMEZONE
BEGIN:VEVENT
UID:0831177e-b7a4-4584-99a4-5e437608ecb6
DTSTAMP:20260420T084919Z
CATEGORIES:Special Events
CLASS:PUBLIC
DESCRIPTION;ALTREP="CID:<FFFF__=0ABBE548DFE235B58f9e8a93d@coffeebean.com>":
 The Middle Tennessee Robotic Arts Society present their 8th combat robot e
 vent: 'Engineered For Destruction 8'.  Antweight\, Beetle and Fairyweight.
    The competition will follow SPARC rules and judging criteria.   Schedul
 e will be as follows: 11:30AM: Safety\, Lunch\, Check-in and setup 12:30PM
 : Fights start 3:30 PM: Awards  Other notes: - All minors (&lt\;18) must b
 e accompanied by a guardian in order to complete the on-site waiver and co
 mpete - No flamethrowers or ICE powered robots will be permitted - Pit tab
 les and power will be provided\, though extra extension cords and multiple
  outlets are appreciated - There will be a designated grinding area\, howe
 ver you must be sure to bring your own safety glasses or equivalent PPE  C
 ompetitors\, please register here so we can have a reliable headcount: htt
 p://www.buildersdb.com/view_bots.asp?eventid=608\nMTRAS sign in procedures
  - PLEASE READ\nAs you approach the science center\, please use the entran
 ce doors on the right side. When you enter the lobby look for the sign-in 
 table\, which will have a MTRAS flyer attached\, on your right near the Se
 curity Stand.\nYou will sign in and be given a wrist band specific for MTR
 AS members\, and then you may go to our new meeting location 'Innovation I
 ncubator' makerspace' for the meeting. The room in located on the first fl
 oor down the left hallway next to the 'Sound Box' exhibit. You MUST have a
  wristband to attend MTRAS meetings and afternoon workshops\, and we encou
 rage you to re-use your meeting wristband for the workshop.\nPlease messag
 e the organizers if you have any questions.
DTSTART:20191116T183000Z
DTEND:20191116T213000Z
GEO:00;0
LOCATION:Adventure Science Center
ORGANIZER:
SEQUENCE:1
SUMMARY:Engineered for Destruction 8
TRANSP:OPAQUE
URL:https://mtras.com/events/past-events/60-engineered-for-destruction-8.ht
 ml
END:VEVENT
END:VCALENDAR
