BEGIN:VCALENDAR
VERSION:2.0
PRODID:-//MTRAS.com//NONSGML kigkonsult.se iCalcreator 2.30.10//
CALSCALE:GREGORIAN
METHOD:PUBLISH
UID:dc02a4ee-7d53-4355-b453-061d7d5978d0
X-WR-CALNAME:iCagenda
X-WR-CALDESC:Event Management Extension for Joomla!
X-WR-RELCALID:3E26604A-50F4-4449-8B3E-E4F4932D05B5
X-WR-TIMEZONE:America/Chicago
BEGIN:VTIMEZONE
TZID:America/Chicago
BEGIN:STANDARD
TZNAME:CST
DTSTART:20191103T020000
TZOFFSETFROM:-0500
TZOFFSETTO:-0600
RDATE:20201101T020000
RDATE:20211107T020000
END:STANDARD
BEGIN:DAYLIGHT
TZNAME:CDT
DTSTART:20200308T020000
TZOFFSETFROM:-0600
TZOFFSETTO:-0500
RDATE:20210314T020000
END:DAYLIGHT
END:VTIMEZONE
BEGIN:VEVENT
UID:0c1bd37b-6564-49ac-b3ee-d96fb82ffc8c
DTSTAMP:20260421T083946Z
CATEGORIES:Special Events
CLASS:PUBLIC
DESCRIPTION;ALTREP="CID:<FFFF__=0ABBE548DFE235B58f9e8a93d@coffeebean.com>":
 Newbies\, gearheads &amp\; everyone in between are welcome. Most meetings 
 start with a show and tell format. the show and tell is informal and last 
 about an hour. We then break-up for informal discussions. We always welcom
 e anyone wanting to give a specific presentation. Let us know if you'd lik
 e to present on a particular topic!\nMTRAS sign in procedures - PLEASE REA
 D\nFor the month of August\, although the Adventure Science Center is open
  to limited occupancy\, we will hold our Monthly Meeting over Zoom.\nTime:
  Aug 15\, 2020 10:00 AM Central Time (US and Canada)\nJoin Zoom Meetinghtt
 ps://us02web.zoom.us/j/83623203690?pwd=anJmYnRsZTNDU0RCd1kydzNOOEpaUT09\nM
 eeting ID: 836 2320 3690Passcode: 183256One tap mobile+13017158592\,\,8362
 3203690#\,\,\,\,\,\,0#\,\,183256# US (Germantown)+13126266799\,\,836232036
 90#\,\,\,\,\,\,0#\,\,183256# US (Chicago)\nDial by your location +1 301 71
 5 8592 US (Germantown) +1 312 626 6799 US (Chicago) +1 646 558 8656 US (Ne
 w York) +1 253 215 8782 US (Tacoma) +1 346 248 7799 US (Houston) +1 669 90
 0 9128 US (San Jose)Meeting ID: 836 2320 3690Passcode: 183256Find your loc
 al number: https://us02web.zoom.us/u/kdEh1E9HpA\n&nbsp\;\n&nbsp\;
DTSTART:20200815T150000Z
DTEND:20200815T170000Z
GEO:00;0
LOCATION:Zoom Meeting
ORGANIZER:
SEQUENCE:1
SUMMARY:August 2020 Regular Meeting
TRANSP:OPAQUE
URL:https://mtras.com/events/past-events/70-august-2020-regular-meeting.htm
 l
END:VEVENT
END:VCALENDAR
