BEGIN:VCALENDAR
VERSION:2.0
PRODID:-//MTRAS.com//NONSGML kigkonsult.se iCalcreator 2.30.10//
CALSCALE:GREGORIAN
METHOD:PUBLISH
UID:da43ca7a-ef59-42fd-aa95-7b2004df462e
X-WR-CALNAME:iCagenda
X-WR-CALDESC:Event Management Extension for Joomla!
X-WR-RELCALID:3E26604A-50F4-4449-8B3E-E4F4932D05B5
X-WR-TIMEZONE:America/Chicago
BEGIN:VTIMEZONE
TZID:America/Chicago
BEGIN:STANDARD
TZNAME:CST
DTSTART:20191103T020000
TZOFFSETFROM:-0500
TZOFFSETTO:-0600
RDATE:20201101T020000
RDATE:20211107T020000
END:STANDARD
BEGIN:DAYLIGHT
TZNAME:CDT
DTSTART:20200308T020000
TZOFFSETFROM:-0600
TZOFFSETTO:-0500
RDATE:20210314T020000
RDATE:20220313T020000
END:DAYLIGHT
END:VTIMEZONE
BEGIN:VEVENT
UID:0e17bb92-8167-4eef-a6b8-f71b0fe0f461
DTSTAMP:20260421T085029Z
CATEGORIES:Special Events
CLASS:PUBLIC
DESCRIPTION;ALTREP="CID:<FFFF__=0ABBE548DFE235B58f9e8a93d@coffeebean.com>":
 In this installment of Shop Talk\, we will discuss IoT remote control work
 shop planning and work on a proof of concept. \nTime: Oct 22\, 2020 06:00 
 PM Central Time (US and Canada)\nJoin Zoom Meetinghttps://us02web.zoom.us/
 j/81750251552?pwd=OENVR2FWaHJVUmNHVllhL0hxNFlPUT09\nMeeting ID: 817 5025 1
 552Passcode: 508484One tap mobile+13126266799\,\,81750251552#\,\,\,\,\,\,0
 #\,\,508484# US (Chicago)+16465588656\,\,81750251552#\,\,\,\,\,\,0#\,\,508
 484# US (New York)\nDial by your location +1 312 626 6799 US (Chicago) +1 
 646 558 8656 US (New York) +1 301 715 8592 US (Germantown) +1 346 248 7799
  US (Houston) +1 669 900 9128 US (San Jose) +1 253 215 8782 US (Tacoma)Mee
 ting ID: 817 5025 1552Passcode: 508484Find your local number: https://us02
 web.zoom.us/u/kFcj9aR95\n&nbsp\;
DTSTART:20201022T230000Z
DTEND:20201023T010000Z
GEO:00;0
LOCATION:Zoom Meeting
ORGANIZER:
SEQUENCE:1
SUMMARY:Shop Talk - Workshop Edition!
TRANSP:OPAQUE
URL:https://mtras.com/events/past-events/85-shop-talk.html
END:VEVENT
END:VCALENDAR
