BEGIN:VCALENDAR
VERSION:2.0
PRODID:-//MTRAS.com//NONSGML kigkonsult.se iCalcreator 2.30.10//
CALSCALE:GREGORIAN
METHOD:PUBLISH
UID:f4c73dcf-3231-49a8-a94b-3a18a3ca92c6
X-WR-CALNAME:iCagenda
X-WR-CALDESC:Event Management Extension for Joomla!
X-WR-RELCALID:3E26604A-50F4-4449-8B3E-E4F4932D05B5
X-WR-TIMEZONE:America/Chicago
BEGIN:VTIMEZONE
TZID:America/Chicago
BEGIN:STANDARD
TZNAME:CST
DTSTART:20201101T020000
TZOFFSETFROM:-0500
TZOFFSETTO:-0600
RDATE:20211107T020000
RDATE:20221106T020000
END:STANDARD
BEGIN:DAYLIGHT
TZNAME:CDT
DTSTART:20210314T020000
TZOFFSETFROM:-0600
TZOFFSETTO:-0500
RDATE:20220313T020000
RDATE:20230312T020000
END:DAYLIGHT
END:VTIMEZONE
BEGIN:VEVENT
UID:21555ca0-e2ff-4a9a-8f71-cc5fb3b24196
DTSTAMP:20260421T084603Z
CATEGORIES:Special Events
CLASS:PUBLIC
DESCRIPTION;ALTREP="CID:<FFFF__=0ABBE548DFE235B58f9e8a93d@coffeebean.com>":
 Overview\nThis event is a fall festival that includes games\, trick-or-tre
 ating &amp\; costumes in addition to hands-on science activities\, and a c
 hance for visitors to engage with Nashville community businesses and organ
 izations that support STEAM!\nThings to know:\n\nLocation - The event is a
 t&nbsp\;The Adventure Science Center 800 Fort Negley Blvd. Nashville\, TN 
 37203\nSetup - Saturday 8:30-9:30am and all vehicles need to be removed by
  9:30 for set-up.\nBreakdown - Everything needs to be cleared out by 4:00p
 .\n\nThings We Need\n\nVolunteers - We need help with presenting at the bo
 oth.\nProjects - Bring your bots and related projects for display.\nSnacks
  - We have drinks covered but we need some folks to bring snacks.\nExtensi
 on Cords / Power Strips\n\nJust like all of our other events this is a gre
 at opportunity to show Nashville what we are all about. Bring all those aw
 esome projects you’ve been working on. SUMO robots\, Arduino projects\, Ba
 ttle Bots\, Line followers\, Robot Arms\, etc. We have the space so lets f
 ill it. Its an opportunity for us to reach people outside the Science Cent
 er. Though we’ve been around for over a decade there are still people who 
 don’t know about the group. Lets put our best foot forward.\nLastly\, lets
  have fun. Its going to be a fantastic event. Take some time to check thin
 gs out. Its amazing how much maker talent we have right here in Middle TN.
  Its the same talent we get to see every third Saturday of the month. \;-)
 \nSee you there!
DTSTART:20211030T150000Z
DTEND:20211030T200000Z
GEO:00;0
LOCATION:The Adventure Science Center
ORGANIZER:
SEQUENCE:1
SUMMARY:Fall Into Science Festival at the ASC
TRANSP:OPAQUE
URL:https://mtras.com/events/past-events/95-fall-into-science-festival-at-t
 he-asc/2021-10-30-10-00.html
END:VEVENT
END:VCALENDAR
