BEGIN:VCALENDAR
VERSION:2.0
PRODID:-//MTRAS.com//NONSGML kigkonsult.se iCalcreator 2.30.10//
CALSCALE:GREGORIAN
METHOD:PUBLISH
UID:6cfdc8be-25a1-4260-9f16-1740020f6952
X-WR-CALNAME:iCagenda
X-WR-CALDESC:Event Management Extension for Joomla!
X-WR-RELCALID:3E26604A-50F4-4449-8B3E-E4F4932D05B5
X-WR-TIMEZONE:America/Chicago
BEGIN:VTIMEZONE
TZID:America/Chicago
BEGIN:STANDARD
TZNAME:CST
DTSTART:20201101T020000
TZOFFSETFROM:-0500
TZOFFSETTO:-0600
RDATE:20211107T020000
END:STANDARD
BEGIN:DAYLIGHT
TZNAME:CDT
DTSTART:20200308T020000
TZOFFSETFROM:-0600
TZOFFSETTO:-0500
RDATE:20210314T020000
RDATE:20220313T020000
END:DAYLIGHT
END:VTIMEZONE
BEGIN:VEVENT
UID:9cffbe11-da3d-4a9e-b11b-773e7fe918be
DTSTAMP:20260421T083514Z
CATEGORIES:Special Events
CLASS:PUBLIC
DESCRIPTION;ALTREP="CID:<FFFF__=0ABBE548DFE235B58f9e8a93d@coffeebean.com>":
 Newbies\, gearheads &amp\; everyone in between are welcome. Most meetings 
 start with a show and tell format. the show and tell is informal and last 
 about an hour. We then break-up for informal discussions. We always welcom
 e anyone wanting to give a specific presentation. Let us know if you'd lik
 e to present on a particular topic!\nMTRAS sign in procedures - PLEASE REA
 D\nFor the month of January\, although the Adventure Science Center is ope
 n to limited occupancy\, we will hold our Monthly Meeting over Zoom.\nMeet
 ing Details:\nTopic: MTRAS Regular January Monthly MeetingTime: Jan 16\, 2
 021 10:00 AM Central Time (US and Canada)\nJoin Zoom Meetinghttps://us02we
 b.zoom.us/j/86013269899?pwd=aVU2ZDlhMms0NzdVQ3g2MVp5b2FFdz09\nMeeting ID: 
 860 1326 9899Passcode: 555042One tap mobile+16465588656\,\,86013269899#\,\
 ,\,\,*555042# US (New York)+13017158592\,\,86013269899#\,\,\,\,*555042# US
  (Washington D.C)\nDial by your location +1 646 558 8656 US (New York) +1 
 301 715 8592 US (Washington D.C) +1 312 626 6799 US (Chicago) +1 669 900 9
 128 US (San Jose) +1 253 215 8782 US (Tacoma) +1 346 248 7799 US (Houston)
 Meeting ID: 860 1326 9899Passcode: 555042Find your local number: https://u
 s02web.zoom.us/u/kd6hZ7hoO
DTSTART:20210116T160000Z
DTEND:20210116T180000Z
GEO:00;0
LOCATION:Zoom Meeting
ORGANIZER:
SEQUENCE:1
SUMMARY:January 2021 Regular Meeting
TRANSP:OPAQUE
URL:https://mtras.com/events/past-events/87-january-2021-regular-meeting.ht
 ml
END:VEVENT
END:VCALENDAR
